BEGIN:VCALENDAR
VERSION:2.0
PRODID:gruene-schorndorf.de
METHOD:PUBLISH
BEGIN:VTIMEZONE
TZID:Europe/Berlin
X-LIC-LOCATION:Europe/Berlin
BEGIN:DAYLIGHT
TZOFFSETFROM:+0100
TZOFFSETTO:+0200
TZNAME:CEST
DTSTART:19700329T020000
RRULE:FREQ=YEARLY;INTERVAL=1;BYDAY=-1SU;BYMONTH=3
END:DAYLIGHT
BEGIN:STANDARD
TZOFFSETFROM:+0200
TZOFFSETTO:+0100
TZNAME:CET
DTSTART:19701025T030000
RRULE:FREQ=YEARLY;INTERVAL=1;BYDAY=-1SU;BYMONTH=10
END:STANDARD
END:VTIMEZONE
BEGIN:VEVENT
UID:8de26726962338e6db7c1476408364f9@gruene-schorndorf.de
URL;VALUE=URI:https://gruene-schorndorf.de/termine/offener-austausch-mit-
 den-delegierten/
LOCATION:online
SUMMARY:Offener Austausch mit den Delegierten
DESCRIPTION;ALTREP="data:text/html,%3Cp%3EZur%20Vorbereitung%20des%20Land
 esparteitags%20tauschen%20sich%20Mitglieder%20und%20Delegierte%20aus.%20%
 3Cbr%20%2F%3E%0AZugangsdaten%20werden%20rechtzeitig%20bekannt%20gegeben.%
 20%3C%2Fp%3E":Zur Vorbereitung des Landesparteitags tauschen sich Mitglie
 der und Delegierte aus.\n\nZugangsdaten werden rechtzeitig bekannt gegebe
 n.
CLASS:PUBLIC
DTSTART;TZID=Europe/Berlin:20260503T180000
DTEND;TZID=Europe/Berlin:20260503T193000
DTSTAMP:20260424T085706
END:VEVENT
BEGIN:VEVENT
UID:d6b124de9c4d55209c5b7e41d65f67f2@gruene-schorndorf.de
URL;VALUE=URI:https://gruene-schorndorf.de/termine/kreisvorstandssitzung-
 12/
LOCATION:Grünes Büro
SUMMARY:Kreisvorstandssitzung
DESCRIPTION;ALTREP="data:text/html,%3Cp%3EDer%20Kreisvorstand%20trifft%20
 sich%20regelm%C3%A4%C3%9Fig%20zur%20Kreisvorstandssitzung.%20Solltest%20D
 u%20Interesse%20an%20den%20aktuellen%20Themen%20des%20Kreisvorstands%20ha
 ben%2C%20kannst%20Du%20Dich%20unter%20den%20auf%20der%20Homepage%20aufgef
 %C3%BChrten%20E-Mail-Adressen%20direkt%20an%20den%20Vorstand%20wenden.%3C
 %2Fp%3E":Der Kreisvorstand trifft sich regelmäßig zur Kreisvorstandssit
 zung. Solltest Du Interesse an den aktuellen Themen des Kreisvorstands ha
 ben\, kannst Du Dich unter den auf der Homepage aufgeführten E-Mail-Adre
 ssen direkt an den Vorstand wenden.
CLASS:PUBLIC
DTSTART;TZID=Europe/Berlin:20260506T190000
DTEND;TZID=Europe/Berlin:20260506T210000
DTSTAMP:20260424T085706
END:VEVENT
BEGIN:VEVENT
UID:7446cebfebdfbcca6129ac26e8004b0c@gruene-schorndorf.de
URL;VALUE=URI:https://gruene-schorndorf.de/termine/6-pflanzentauschtag-in
 -urbach/
LOCATION:Begegnungsstätte im Schloss, Schlossstraße 35, Urbach
SUMMARY:6. Pflanzentauschtag in Urbach
DESCRIPTION;ALTREP="data:text/html,%0A%3Cp%3EAm%20Samstag%2C%209.%20Mai%2
 02026%2C%20von%2014%20bis%2016%20Uhr%20laden%20wir%20herzlich%20zum%206.%
 20Pflanzentauschtag%20in%20die%20Begegnungsst%C3%A4tte%20Schloss%20in%20U
 rbach%20ein.%3C%2Fp%3E%0A%0A%0A%0A%3Cp%3EAlle%20Pflanzenfreundinnen%20und
 %20Pflanzenfreunde%20sind%20willkommen%3A%20Bringt%20gesunde%20Pflanzen%2
 C%20Ableger%20oder%20Samen%20mit%20und%20tauscht%20sie%20gegen%20neue%20S
 ch%C3%A4tze%20f%C3%BCr%20Garten%2C%20Balkon%20oder%20Wohnung.%20Der%20Pfl
 anzentausch%20ist%20kostenfrei%20%E2%80%93%20auch%20wer%20einfach%20nur%2
 0vorbeischauen%20und%20st%C3%B6bern%20m%C3%B6chte%2C%20ist%20herzlich%20e
 ingeladen.%3C%2Fp%3E%0A%0A%0A%0A%3Cp%3EWenn%20eure%20Pflanzen%20zu%20gro%
 C3%9F%20geworden%20sind%20oder%20ihr%20Ableger%20%C3%BCbrig%20habt%2C%20f
 inden%20sie%20hier%20vielleicht%20ein%20neues%20Zuhause.%20Gleichzeitig%2
 0k%C3%B6nnt%20ihr%20neue%20Pflanzen%20entdecken%20und%20euch%20mit%20ande
 ren%20Pflanzenliebhaberinnen%20und%20-liebhabern%20austauschen.%3C%2Fp%3E
 %0A%0A%0A%0A%3Cp%3ENeben%20Pflanzen%20d%C3%BCrfen%20auch%20intakte%20und%
 20saubere%20Pflanz-%20und%20%C3%9Cbert%C3%B6pfe%20sowie%20Gartendekoratio
 n%20gerne%20getauscht%20werden.%3C%2Fp%3E%0A%0A%0A%0A%3Cp%3ENutzt%20die%2
 0Gelegenheit%2C%20euch%20mit%20erfahrenen%20Hobbyg%C3%A4rtnerinnen%20und%
 20-g%C3%A4rtnern%20auszutauschen%20und%20Tipps%20rund%20um%20Zimmer-%20un
 d%20Gartenpflanzen%20zu%20bekommen.%3C%2Fp%3E%0A%0A%0A%0A%3Cp%3EF%C3%BCr%
 20eine%20gem%C3%BCtliche%20Atmosph%C3%A4re%20ist%20ebenfalls%20gesorgt%3A
 %20Kaffee%20und%20Kuchen%20stehen%20bereit.%3C%2Fp%3E%0A%0A%0A%0A%3Cp%3EW
 ir%20freuen%20uns%20auf%20viele%20Besucherinnen%20und%20Besucher%20und%20
 einen%20gr%C3%BCnen%20Nachmittag%20in%20Urbach.%3C%2Fp%3E%0A":Am Samstag\
 , 9. Mai 2026\, von 14 bis 16 Uhr laden wir herzlich zum 6. Pflanzentausc
 htag in die Begegnungsstätte Schloss in Urbach ein.\n\nAlle Pflanzenfreu
 ndinnen und Pflanzenfreunde sind willkommen: Bringt gesunde Pflanzen\, Ab
 leger oder Samen mit und tauscht sie gegen neue Schätze für Garten\, Ba
 lkon oder Wohnung. Der Pflanzentausch ist kostenfrei – auch wer einfach
  nur vorbeischauen und stöbern möchte\, ist herzlich eingeladen.\n\nWen
 n eure Pflanzen zu groß geworden sind oder ihr Ableger übrig habt\, fin
 den sie hier vielleicht ein neues Zuhause. Gleichzeitig könnt ihr neue P
 flanzen entdecken und euch mit anderen Pflanzenliebhaberinnen und -liebha
 bern austauschen.\n\nNeben Pflanzen dürfen auch intakte und saubere Pfla
 nz- und Übertöpfe sowie Gartendekoration gerne getauscht werden.\n\nNut
 zt die Gelegenheit\, euch mit erfahrenen Hobbygärtnerinnen und -gärtner
 n auszutauschen und Tipps rund um Zimmer- und Gartenpflanzen zu bekommen.
 \n\nFür eine gemütliche Atmosphäre ist ebenfalls gesorgt: Kaffee und K
 uchen stehen bereit.\n\nWir freuen uns auf viele Besucherinnen und Besuch
 er und einen grünen Nachmittag in Urbach.
CLASS:PUBLIC
DTSTART;TZID=Europe/Berlin:20260509T140000
DTEND;TZID=Europe/Berlin:20260509T160000
DTSTAMP:20260424T085706
END:VEVENT
BEGIN:VEVENT
UID:a40c7de4510a79b2a5304101db303616@gruene-schorndorf.de
URL;VALUE=URI:https://gruene-schorndorf.de/termine/kreisvorstandssitzung-
 bei-bedarf-5/
LOCATION:online
SUMMARY:Kreisvorstandssitzung bei Bedarf
DESCRIPTION;ALTREP="data:text/html,%3Cp%3EDer%20Kreisvorstand%20trifft%20
 sich%20regelm%C3%A4%C3%9Fig%20zur%20Kreisvorstandssitzung.%20Solltest%20D
 u%20Interesse%20an%20den%20aktuellen%20Themen%20des%20Kreisvorstands%20ha
 ben%2C%20kannst%20Du%20Dich%20unter%20den%20auf%20der%20Homepage%20aufgef
 %C3%BChrten%20E-Mail-Adressen%20direkt%20an%20den%20Vorstand%20wenden.%3C
 %2Fp%3E":Der Kreisvorstand trifft sich regelmäßig zur Kreisvorstandssit
 zung. Solltest Du Interesse an den aktuellen Themen des Kreisvorstands ha
 ben\, kannst Du Dich unter den auf der Homepage aufgeführten E-Mail-Adre
 ssen direkt an den Vorstand wenden.
CLASS:PUBLIC
DTSTART;TZID=Europe/Berlin:20260520T200000
DTEND;TZID=Europe/Berlin:20260520T210000
DTSTAMP:20260424T085706
END:VEVENT
BEGIN:VEVENT
UID:08e6ccec6e80230865c9f3f30cd79e4a@gruene-schorndorf.de
URL;VALUE=URI:https://gruene-schorndorf.de/termine/gemeinderats-vernetzun
 gstreffen/
LOCATION:Grünes Büro Waiblingen
SUMMARY:Gemeinderats-Vernetzungstreffen
DESCRIPTION;ALTREP="data:text/html,%3Cp%3EGr%C3%BCne%20und%20gr%C3%BCn-na
 he%20Gemeinder%C3%A4t%3Ainnen%20im%20Rems-Murr-Kreis%20treffen%20sich%20z
 u%20einem%20kollegialen%20Austausch.%20%3C%2Fp%3E":Grüne und grün-nahe 
 Gemeinderät:innen im Rems-Murr-Kreis treffen sich zu einem kollegialen A
 ustausch.
CLASS:PUBLIC
DTSTART;TZID=Europe/Berlin:20260522T170000
DTEND;TZID=Europe/Berlin:20260522T190000
DTSTAMP:20260424T085706
END:VEVENT
BEGIN:VEVENT
UID:73a8cfe3268f93b80fa96b7c9c390e1b@gruene-schorndorf.de
URL;VALUE=URI:https://gruene-schorndorf.de/termine/kreisvorstandssitzung-
 5/
LOCATION:Grünes Büro
SUMMARY:Kreisvorstandssitzung
DESCRIPTION;ALTREP="data:text/html,%3Cp%3EDer%20Kreisvorstand%20trifft%20
 sich%20regelm%C3%A4%C3%9Fig%20zur%20Kreisvorstandssitzung.%20Solltest%20D
 u%20Interesse%20an%20den%20aktuellen%20Themen%20des%20Kreisvorstands%20ha
 ben%2C%20kannst%20Du%20Dich%20unter%20den%20auf%20der%20Homepage%20aufgef
 %C3%BChrten%20E-Mail-Adressen%20direkt%20an%20den%20Vorstand%20wenden.%3C
 %2Fp%3E":Der Kreisvorstand trifft sich regelmäßig zur Kreisvorstandssit
 zung. Solltest Du Interesse an den aktuellen Themen des Kreisvorstands ha
 ben\, kannst Du Dich unter den auf der Homepage aufgeführten E-Mail-Adre
 ssen direkt an den Vorstand wenden.
CLASS:PUBLIC
DTSTART;TZID=Europe/Berlin:20260610T190000
DTEND;TZID=Europe/Berlin:20260610T210000
DTSTAMP:20260424T085706
END:VEVENT
BEGIN:VEVENT
UID:033203498f42da48327c01eafadb6e5c@gruene-schorndorf.de
URL;VALUE=URI:https://gruene-schorndorf.de/termine/kreisvorstandssitzung-
 bei-bedarf-2/
LOCATION:online
SUMMARY:Kreisvorstandssitzung bei Bedarf
DESCRIPTION;ALTREP="data:text/html,%3Cp%3EDer%20Kreisvorstand%20trifft%20
 sich%20regelm%C3%A4%C3%9Fig%20zur%20Kreisvorstandssitzung.%20Solltest%20D
 u%20Interesse%20an%20den%20aktuellen%20Themen%20des%20Kreisvorstands%20ha
 ben%2C%20kannst%20Du%20Dich%20unter%20den%20auf%20der%20Homepage%20aufgef
 %C3%BChrten%20E-Mail-Adressen%20direkt%20an%20den%20Vorstand%20wenden.%3C
 %2Fp%3E":Der Kreisvorstand trifft sich regelmäßig zur Kreisvorstandssit
 zung. Solltest Du Interesse an den aktuellen Themen des Kreisvorstands ha
 ben\, kannst Du Dich unter den auf der Homepage aufgeführten E-Mail-Adre
 ssen direkt an den Vorstand wenden.
CLASS:PUBLIC
DTSTART;TZID=Europe/Berlin:20260617T200000
DTEND;TZID=Europe/Berlin:20260617T210000
DTSTAMP:20260424T085706
END:VEVENT
BEGIN:VEVENT
UID:15e5bfed0483d642c34eda7470359a39@gruene-schorndorf.de
URL;VALUE=URI:https://gruene-schorndorf.de/termine/auf-einen-kaffee-mit-s
 wantje-2/
LOCATION:Bio Bäckerei Weber, Ringstraße 48, Winnenden
SUMMARY:Auf einen Kaffee mit Swantje
DESCRIPTION;ALTREP="data:text/html,%3Cp%3E%3C%2Fp%3E":
CLASS:PUBLIC
DTSTART;TZID=Europe/Berlin:20260626T160000
DTEND;TZID=Europe/Berlin:20260626T170000
DTSTAMP:20260424T085706
END:VEVENT
BEGIN:VEVENT
UID:33b8439f31cc6232ac594cc9f46de5a9@gruene-schorndorf.de
URL;VALUE=URI:https://gruene-schorndorf.de/termine/kreismitgliederversamm
 lung-2/
LOCATION:Ort wird noch bekannt gegeben
SUMMARY:Kreismitgliederversammlung
DESCRIPTION;ALTREP="data:text/html,%3Cp%3EDelegiertenwahlen%20f%C3%BCr%20
 die%20Landesdelegiertenkonferenz%20und%20die%20Bundesdelegiertenkonferenz
 %3Cbr%20%2F%3E%0A%3Cbr%20%2F%3E%0AAnkommen%20und%20Austausch%20ab%2019%20
 Uhr%3C%2Fp%3E":Delegiertenwahlen für die Landesdelegiertenkonferenz und 
 die Bundesdelegiertenkonferenz\n\nAnkommen und Austausch ab 19 Uhr
CLASS:PUBLIC
DTSTART;TZID=Europe/Berlin:20260629T193000
DTEND;TZID=Europe/Berlin:20260629T213000
DTSTAMP:20260424T085706
END:VEVENT
BEGIN:VEVENT
UID:4e154c53e4b3397b46f37dc1e0c67172@gruene-schorndorf.de
URL;VALUE=URI:https://gruene-schorndorf.de/termine/boule/
LOCATION:Schwaikheim
SUMMARY:Gemeinsames Boule-Spiel
DESCRIPTION;ALTREP="data:text/html,%3Cp%3E%3C%2Fp%3E":
CLASS:PUBLIC
DTSTART;TZID=Europe/Berlin:20260630T190000
DTEND;TZID=Europe/Berlin:20260630T210000
DTSTAMP:20260424T085706
END:VEVENT
BEGIN:VEVENT
UID:e4eb075a63fca211fa298c906154f4ba@gruene-schorndorf.de
URL;VALUE=URI:https://gruene-schorndorf.de/termine/kreisvorstandssitzung-
 2/
LOCATION:Grünes Büro
SUMMARY:Kreisvorstandssitzung
DESCRIPTION;ALTREP="data:text/html,%3Cp%3EDer%20Kreisvorstand%20trifft%20
 sich%20regelm%C3%A4%C3%9Fig%20zur%20Kreisvorstandssitzung.%20Solltest%20D
 u%20Interesse%20an%20den%20aktuellen%20Themen%20des%20Kreisvorstands%20ha
 ben%2C%20kannst%20Du%20Dich%20unter%20den%20auf%20der%20Homepage%20aufgef
 %C3%BChrten%20E-Mail-Adressen%20direkt%20an%20den%20Vorstand%20wenden.%3C
 %2Fp%3E":Der Kreisvorstand trifft sich regelmäßig zur Kreisvorstandssit
 zung. Solltest Du Interesse an den aktuellen Themen des Kreisvorstands ha
 ben\, kannst Du Dich unter den auf der Homepage aufgeführten E-Mail-Adre
 ssen direkt an den Vorstand wenden.
CLASS:PUBLIC
DTSTART;TZID=Europe/Berlin:20260701T190000
DTEND;TZID=Europe/Berlin:20260701T210000
DTSTAMP:20260424T085706
END:VEVENT
BEGIN:VEVENT
UID:1333f1ca689825c90aa41a05b926caaa@gruene-schorndorf.de
URL;VALUE=URI:https://gruene-schorndorf.de/termine/historische-ortsfuehru
 ng-vom-verein-der-remstaler/
LOCATION:Eingang der Alten  Kelter, Kirchstr. 1, Korb
SUMMARY:Historische Ortsführung vom Verein DER REMSTALER
DESCRIPTION;ALTREP="data:text/html,%3Cp%3EF%C3%BChrung%20mit%20J%C3%BCrge
 n%20und%20Saladin%20Klotz%20%28von%20DER%20REMSTALER%29%3C%2Fp%3E":Führu
 ng mit Jürgen und Saladin Klotz (von DER REMSTALER)
CLASS:PUBLIC
DTSTART;TZID=Europe/Berlin:20260704T143000
DTEND;TZID=Europe/Berlin:20260704T163000
DTSTAMP:20260424T085706
END:VEVENT
BEGIN:VEVENT
UID:90aaa4aaec3fc5ad69457dcefdeba60d@gruene-schorndorf.de
URL;VALUE=URI:https://gruene-schorndorf.de/termine/infostand-nicht-nur-vo
 r-der-wahl-2/
LOCATION:Marktplatz, Fellbach
SUMMARY:Infostand – nicht nur vor der Wahl
DESCRIPTION;ALTREP="data:text/html,%3Cp%3E%3C%2Fp%3E":
CLASS:PUBLIC
DTSTART;TZID=Europe/Berlin:20260711T090000
DTEND;TZID=Europe/Berlin:20260711T120000
DTSTAMP:20260424T085706
END:VEVENT
BEGIN:VEVENT
UID:5f21b943688f58008839c3ee5ee22533@gruene-schorndorf.de
URL;VALUE=URI:https://gruene-schorndorf.de/termine/lesung-mit-johanna-hen
 kel-waidhofer-und-peter-henkel/
LOCATION:
SUMMARY:Lesung mit Johanna Henkel-Waidhofer und Peter Henkel
DESCRIPTION;ALTREP="data:text/html,%3Cp%3E%3C%2Fp%3E":
CLASS:PUBLIC
DTSTART;TZID=Europe/Berlin:20260714T190000
DTEND;TZID=Europe/Berlin:20260714T210000
DTSTAMP:20260424T085706
END:VEVENT
BEGIN:VEVENT
UID:32ea77848004cd9d4e3af519bd8fa3b6@gruene-schorndorf.de
URL;VALUE=URI:https://gruene-schorndorf.de/termine/diskussion-mit-roderic
 h-kiesewetter-mdb-und-agnieszka-brugger-mdb/
LOCATION:WN-Studio, Bürgerzentrum, Talaue 4, Waiblingen
SUMMARY:Diskussion mit Roderich Kiesewetter MdB und Agnieszka Brugger MdB
DESCRIPTION;ALTREP="data:text/html,%3Cp%3E%3C%2Fp%3E":
CLASS:PUBLIC
DTSTART;TZID=Europe/Berlin:20260720T190000
DTEND;TZID=Europe/Berlin:20260720T213000
DTSTAMP:20260424T085706
END:VEVENT
BEGIN:VEVENT
UID:dd1f1f4d48b9738e4f9ef21afa883cc1@gruene-schorndorf.de
URL;VALUE=URI:https://gruene-schorndorf.de/termine/kreisvorstandssitzung-
 bei-bedarf/
LOCATION:online
SUMMARY:Kreisvorstandssitzung bei Bedarf
DESCRIPTION;ALTREP="data:text/html,%3Cp%3EDer%20Kreisvorstand%20trifft%20
 sich%20regelm%C3%A4%C3%9Fig%20zur%20Kreisvorstandssitzung.%20Solltest%20D
 u%20Interesse%20an%20den%20aktuellen%20Themen%20des%20Kreisvorstands%20ha
 ben%2C%20kannst%20Du%20Dich%20unter%20den%20auf%20der%20Homepage%20aufgef
 %C3%BChrten%20E-Mail-Adressen%20direkt%20an%20den%20Vorstand%20wenden.%3C
 %2Fp%3E":Der Kreisvorstand trifft sich regelmäßig zur Kreisvorstandssit
 zung. Solltest Du Interesse an den aktuellen Themen des Kreisvorstands ha
 ben\, kannst Du Dich unter den auf der Homepage aufgeführten E-Mail-Adre
 ssen direkt an den Vorstand wenden.
CLASS:PUBLIC
DTSTART;TZID=Europe/Berlin:20260819T200000
DTEND;TZID=Europe/Berlin:20260819T210000
DTSTAMP:20260424T085706
END:VEVENT
BEGIN:VEVENT
UID:fd4ffc18fb3833ecfc78aa18896e735c@gruene-schorndorf.de
URL;VALUE=URI:https://gruene-schorndorf.de/termine/kreisvorstandssitzung/
LOCATION:Grünes Büro
SUMMARY:Kreisvorstandssitzung
DESCRIPTION;ALTREP="data:text/html,%3Cp%3EDer%20Kreisvorstand%20trifft%20
 sich%20regelm%C3%A4%C3%9Fig%20zur%20Kreisvorstandssitzung.%20Solltest%20D
 u%20Interesse%20an%20den%20aktuellen%20Themen%20des%20Kreisvorstands%20ha
 ben%2C%20kannst%20Du%20Dich%20unter%20den%20auf%20der%20Homepage%20aufgef
 %C3%BChrten%20E-Mail-Adressen%20direkt%20an%20den%20Vorstand%20wenden.%3C
 %2Fp%3E":Der Kreisvorstand trifft sich regelmäßig zur Kreisvorstandssit
 zung. Solltest Du Interesse an den aktuellen Themen des Kreisvorstands ha
 ben\, kannst Du Dich unter den auf der Homepage aufgeführten E-Mail-Adre
 ssen direkt an den Vorstand wenden.
CLASS:PUBLIC
DTSTART;TZID=Europe/Berlin:20260916T190000
DTEND;TZID=Europe/Berlin:20260916T210000
DTSTAMP:20260424T085706
END:VEVENT
BEGIN:VEVENT
UID:c37ae7c7632fcc7c997dab42e3720595@gruene-schorndorf.de
URL;VALUE=URI:https://gruene-schorndorf.de/termine/auf-einen-kaffee-mit-s
 wanjte/
LOCATION:Fellbach
SUMMARY:Auf einen Kaffee mit Swanjte
DESCRIPTION;ALTREP="data:text/html,%3Cp%3E%3C%2Fp%3E":
CLASS:PUBLIC
DTSTART;TZID=Europe/Berlin:20260919T130000
DTEND;TZID=Europe/Berlin:20260919T140000
DTSTAMP:20260424T085706
END:VEVENT
BEGIN:VEVENT
UID:a5dfeba9929850fb50518e192bee5f04@gruene-schorndorf.de
URL;VALUE=URI:https://gruene-schorndorf.de/termine/auf-einen-kaffee-mit-s
 wantje/
LOCATION:Café Mildenberger, Wacholderstraße 2, Leutenbach
SUMMARY:Auf einen Kaffee mit Swantje
DESCRIPTION;ALTREP="data:text/html,%3Cp%3E%3C%2Fp%3E":
CLASS:PUBLIC
DTSTART;TZID=Europe/Berlin:20260925T160000
DTEND;TZID=Europe/Berlin:20260925T170000
DTSTAMP:20260424T085706
END:VEVENT
BEGIN:VEVENT
UID:75fa447245f8ae1eacbfba04b737be44@gruene-schorndorf.de
URL;VALUE=URI:https://gruene-schorndorf.de/termine/infostand-nicht-nur-vo
 r-der-wahl/
LOCATION:Marktplatz, Winnenden
SUMMARY:Infostand: „Nicht nur vor der Wahl“
DESCRIPTION;ALTREP="data:text/html,%3Cp%3E%3C%2Fp%3E":
CLASS:PUBLIC
DTSTART;TZID=Europe/Berlin:20260926T090000
DTEND;TZID=Europe/Berlin:20260926T120000
DTSTAMP:20260424T085706
END:VEVENT
BEGIN:VEVENT
UID:381c3d1e9808632a50aaceae7921fff4@gruene-schorndorf.de
URL;VALUE=URI:https://gruene-schorndorf.de/termine/7-kleidertauschparty/
LOCATION:Barbara-Künkelin-Halle, Schorndorf
SUMMARY:7. Kleidertauschparty
DESCRIPTION;ALTREP="data:text/html,%0A%3Cp%3EWir%20veranstalten%20unsere%
 206.%20Kleidertauschparty%21%20Am%20%3Cstrong%3E6.%20Oktober%202026%20in%
 20der%20Barbara-K%C3%BCnkelin-Halle%3C%2Fstrong%3E%20von%2017-19%20Uhr%3A
 %20Einfach%20Kleidung%20mitbringen%20und%20nach%20neuen%20Lieblings-Teile
 n%20st%C3%B6bern.%20Kostenlos%20und%20ohne%20Anmeldung.%3C%2Fp%3E%0A%0A%0
 A%0A%3Cp%3EWie%20immer%20gibt%27s%20Sekt%20%26amp%3B%20alkoholfreie%20Get
 r%C3%A4nke%20als%20kleines%20Highlight.%3C%2Fp%3E%0A%0A%0A%0A%3Cp%3EWir%2
 0freuen%20uns%20auf%20einen%20tollen%20Abend%20mit%20euch%21%20Lasst%20un
 s%20gemeinsam%20nachhaltige%20Mode%20f%C3%B6rdern%20und%20dabei%20Spa%C3%
 9F%20haben.%3C%2Fp%3E%0A%0A%0A%0A%3Cp%3E%C3%9Cbrige%20Kleidungsst%C3%BCck
 e%20werden%20im%20Nachhinein%20an%20das%20DRK%20Schorndorf%20gespendet.%3
 C%2Fp%3E%0A%0A%0A%0A%3Ch2%20class%3D%22wp-block-heading%22%3EWie%20funkti
 oniert%20der%20Kleidertausch%3F%3C%2Fh2%3E%0A%0A%0A%0A%3Cp%3EBringe%20gut
 %20erhaltene%20und%20saubere%20Kleidungsst%C3%BCcke%20mit%20%28Richtwert%
 3A%20max.%2010%29.%20%3C%2Fp%3E%0A%0A%0A%0A%3Cp%3EDu%20darfst%20beliebig%
 20viele%20Kleidungsst%C3%BCcke%20wieder%20mitnehmen%2C%20unabh%C3%A4ngig%
 20von%20der%20Anzahl%2C%20die%20Du%20mitgebracht%20hast.%20%3C%2Fp%3E%0A%
 0A%0A%0A%3Cp%3EFalls%20Du%20gerade%20nichts%20zum%20Tauschen%20im%20Kleid
 erschrank%20hast%2C%20komm%20trotzdem%20vorbei%21%20%3C%2Fp%3E%0A%0A%0A%0
 A%3Cp%3E%3Cstrong%3EWichtig%3A%20%3C%2Fstrong%3EBaby-%20und%20Kinderkleid
 ung%2C%20Unterw%C3%A4sche%20oder%20Pelz%20sollten%20zuhause%20bleiben.%3C
 %2Fp%3E%0A%0A%0A%0A%3Cp%3E%3Cstrong%3EUnd%3A%20%3C%2Fstrong%3EEine%20Tasc
 he%20f%C3%BCr%20Deine%20ertauschten%20Sachen%20nicht%20vergessen%20%F0%9F
 %98%89%3C%2Fp%3E%0A%0A%0A%0A%3Cp%3E%3C%2Fp%3E%0A":Wir veranstalten unsere
  6. Kleidertauschparty! Am 6. Oktober 2026 in der Barbara-Künkelin-Halle
  von 17-19 Uhr: Einfach Kleidung mitbringen und nach neuen Lieblings-Teil
 en stöbern. Kostenlos und ohne Anmeldung.\n\nWie immer gibt's Sekt & alk
 oholfreie Getränke als kleines Highlight.\n\nWir freuen uns auf einen to
 llen Abend mit euch! Lasst uns gemeinsam nachhaltige Mode fördern und da
 bei Spaß haben.\n\nÜbrige Kleidungsstücke werden im Nachhinein an das 
 DRK Schorndorf gespendet.\n\nWie funktioniert der Kleidertausch?\n\nBring
 e gut erhaltene und saubere Kleidungsstücke mit (Richtwert: max. 10).\n\
 nDu darfst beliebig viele Kleidungsstücke wieder mitnehmen\, unabhängig
  von der Anzahl\, die Du mitgebracht hast.\n\nFalls Du gerade nichts zum 
 Tauschen im Kleiderschrank hast\, komm trotzdem vorbei!\n\nWichtig: Baby-
  und Kinderkleidung\, Unterwäsche oder Pelz sollten zuhause bleiben.\n\n
 Und: Eine Tasche für Deine ertauschten Sachen nicht vergessen 😉
CLASS:PUBLIC
DTSTART;TZID=Europe/Berlin:20261006T170000
DTEND;TZID=Europe/Berlin:20261006T190000
DTSTAMP:20260424T085706
END:VEVENT
BEGIN:VEVENT
UID:758aa9c55cad0a404b3a36a048e6d930@gruene-schorndorf.de
URL;VALUE=URI:https://gruene-schorndorf.de/termine/kreisvorstandssitzung-
 3/
LOCATION:Grünes Büro
SUMMARY:Kreisvorstandssitzung
DESCRIPTION;ALTREP="data:text/html,%3Cp%3EDer%20Kreisvorstand%20trifft%20
 sich%20regelm%C3%A4%C3%9Fig%20zur%20Kreisvorstandssitzung.%20Solltest%20D
 u%20Interesse%20an%20den%20aktuellen%20Themen%20des%20Kreisvorstands%20ha
 ben%2C%20kannst%20Du%20Dich%20unter%20den%20auf%20der%20Homepage%20aufgef
 %C3%BChrten%20E-Mail-Adressen%20direkt%20an%20den%20Vorstand%20wenden.%3C
 %2Fp%3E":Der Kreisvorstand trifft sich regelmäßig zur Kreisvorstandssit
 zung. Solltest Du Interesse an den aktuellen Themen des Kreisvorstands ha
 ben\, kannst Du Dich unter den auf der Homepage aufgeführten E-Mail-Adre
 ssen direkt an den Vorstand wenden.
CLASS:PUBLIC
DTSTART;TZID=Europe/Berlin:20261007T190000
DTEND;TZID=Europe/Berlin:20261007T210000
DTSTAMP:20260424T085706
END:VEVENT
BEGIN:VEVENT
UID:5f2a8d7be5aa599f94c3e108f69d6f05@gruene-schorndorf.de
URL;VALUE=URI:https://gruene-schorndorf.de/termine/jahreshauptversammlung
 -3/
LOCATION:Winterbach, Bürgerhaus Alte Kelter
SUMMARY:Jahreshauptversammlung
DESCRIPTION;ALTREP="data:text/html,%3Cp%3EAnkommen%20ab%2018.30%20Uhr%20%
 3Cbr%20%2F%3E%0ABeginn%2019%20Uhr%3Cbr%20%2F%3E%0ABericht%20des%20Kreisvo
 rstands%3Cbr%20%2F%3E%0AKassenbericht%3Cbr%20%2F%3E%0AEntlastungen%3Cbr%2
 0%2F%3E%0AVorstandswahlen%20%3C%2Fp%3E":Ankommen ab 18.30 Uhr\n\nBeginn 1
 9 Uhr\n\nBericht des Kreisvorstands\n\nKassenbericht\n\nEntlastungen\n\nV
 orstandswahlen
CLASS:PUBLIC
DTSTART;TZID=Europe/Berlin:20261008T190000
DTEND;TZID=Europe/Berlin:20261008T220000
DTSTAMP:20260424T085706
END:VEVENT
BEGIN:VEVENT
UID:79f01eef43403fb4492308f1b446784c@gruene-schorndorf.de
URL;VALUE=URI:https://gruene-schorndorf.de/termine/wanderung-mit-johannes
 -enssle-nabu-landesvorsitzender/
LOCATION:Winnenden
SUMMARY:Wanderung mit Johannes Enssle (NABU-Landesvorsitzender)
DESCRIPTION;ALTREP="data:text/html,%3Cp%3EUhrzeit%20und%20Treffpunkt%20we
 rden%20noch%20bekannt%20gegeben%3C%2Fp%3E":Uhrzeit und Treffpunkt werden 
 noch bekannt gegeben
CLASS:PUBLIC
DTSTART;TZID=Europe/Berlin:20261011
DTEND;TZID=Europe/Berlin:20261012
DTSTAMP:20260424T085706
END:VEVENT
BEGIN:VEVENT
UID:f3e28dd01a54e6ccc14d05a83ade0194@gruene-schorndorf.de
URL;VALUE=URI:https://gruene-schorndorf.de/termine/kreisvorstandssitzung-
 bei-bedarf-3/
LOCATION:online
SUMMARY:Kreisvorstandssitzung bei Bedarf
DESCRIPTION;ALTREP="data:text/html,%3Cp%3EDer%20Kreisvorstand%20trifft%20
 sich%20regelm%C3%A4%C3%9Fig%20zur%20Kreisvorstandssitzung.%20Solltest%20D
 u%20Interesse%20an%20den%20aktuellen%20Themen%20des%20Kreisvorstands%20ha
 ben%2C%20kannst%20Du%20Dich%20unter%20den%20auf%20der%20Homepage%20aufgef
 %C3%BChrten%20E-Mail-Adressen%20direkt%20an%20den%20Vorstand%20wenden.%3C
 %2Fp%3E":Der Kreisvorstand trifft sich regelmäßig zur Kreisvorstandssit
 zung. Solltest Du Interesse an den aktuellen Themen des Kreisvorstands ha
 ben\, kannst Du Dich unter den auf der Homepage aufgeführten E-Mail-Adre
 ssen direkt an den Vorstand wenden.
CLASS:PUBLIC
DTSTART;TZID=Europe/Berlin:20261021T200000
DTEND;TZID=Europe/Berlin:20261021T210000
DTSTAMP:20260424T085706
END:VEVENT
END:VCALENDAR