BEGIN:VCALENDAR
VERSION:2.0
PRODID:gruene-schorndorf.de
METHOD:PUBLISH
BEGIN:VTIMEZONE
TZID:Europe/Berlin
X-LIC-LOCATION:Europe/Berlin
BEGIN:DAYLIGHT
TZOFFSETFROM:+0100
TZOFFSETTO:+0200
TZNAME:CEST
DTSTART:19700329T020000
RRULE:FREQ=YEARLY;INTERVAL=1;BYDAY=-1SU;BYMONTH=3
END:DAYLIGHT
BEGIN:STANDARD
TZOFFSETFROM:+0200
TZOFFSETTO:+0100
TZNAME:CET
DTSTART:19701025T030000
RRULE:FREQ=YEARLY;INTERVAL=1;BYDAY=-1SU;BYMONTH=10
END:STANDARD
END:VTIMEZONE
BEGIN:VEVENT
UID:59431a859cd282c034e8d537f424919d@gruene-schorndorf.de
URL;VALUE=URI:https://gruene-schorndorf.de/termine/marktstand-2/
LOCATION:Innenstadt, Schorndorf
SUMMARY:Marktstand
DESCRIPTION;ALTREP="data:text/html,%0A%3Cp%3EKommt%20mit%20unseren%20Kand
 idatinnen%20und%20Kandidaten%20ins%20Gespr%C3%A4ch.%20Welche%20Personen%2
 0kandidieren%20f%C3%BCr%20den%20Gemeinderat%20und%20was%20sind%20deren%20
 Positionen%3F%20Unsere%20Marktst%C3%A4nde%20sind%20erkennbar%20an%20der%2
 0gr%C3%BCnen%20Beachflag.%3C%2Fp%3E%0A":Kommt mit unseren Kandidatinnen u
 nd Kandidaten ins Gespräch. Welche Personen kandidieren für den Gemeind
 erat und was sind deren Positionen? Unsere Marktstände sind erkennbar an
  der grünen Beachflag.
CLASS:PUBLIC
DTSTART;TZID=Europe/Berlin:20240518T090000
DTEND;TZID=Europe/Berlin:20240518T130000
DTSTAMP:20260422T150227
END:VEVENT
END:VCALENDAR